BEGIN:VCALENDAR
VERSION:2.0
PRODID:-//Tukios.com/
BEGIN:VEVENT
UID:57536f07-0a0b-42c9-962c-e57fbfab442e@www.hoffcelebrations.com
DTSTAMP:20260424T212331Z
DTSTART:20260429T210000Z
DTEND:20260429T230000Z
SUMMARY:Visitation
DESCRIPTION:
URL:https://www.hoffcelebrations.com/obituaries/jim-larson
LOCATION: 702 State St  Osage IA 50461
GEO:43.2827988;-92.810826
END:VEVENT
END:VCALENDAR