BEGIN:VCALENDAR
VERSION:2.0
PRODID:-//Tukios.com/
BEGIN:VEVENT
UID:74d5fee7-9588-428d-8c91-706b1781c00b@www.hoffcelebrations.com
DTSTAMP:20260424T212442Z
DTSTART:20260430T153000Z
DTEND:20260430T163000Z
SUMMARY:Funeral Service
DESCRIPTION:
URL:https://www.hoffcelebrations.com/obituaries/jim-larson
LOCATION:Plymouth Bible Baptist Church 808 Broad St  Plymouth IA 50464
GEO:43.2470595;-93.1236116
END:VEVENT
END:VCALENDAR